BEGIN:VCALENDAR
VERSION:2.0
PRODID:-//Plone.org//NONSGML plone.app.event//EN
X-WR-TIMEZONE:Europe/Berlin
BEGIN:VEVENT
SUMMARY:IFAT Munich
DTSTART;VALUE=DATE:20260504
DTEND;VALUE=DATE:20260508
DTSTAMP;VALUE=DATE-TIME:20260421T121855Z
UID:1b843319a56e47aea6ebd344268f034c
CATEGORIES:Prävention
CONTACT:https://ifat.de/
CREATED;VALUE=DATE-TIME:20251217T112419Z
DESCRIPTION:Zum 60-jährigen Jubiläum der Weltleitmesse für Wasser\, Rec
 ycling und Kreislaufwirtschaft informieren wir über die starke Einwirkung
  von Sonnenstrahlung auf die Haut.\n\nInteressierte haben die Möglichkeit
 \, sich mit einer UV-Kamera fotografieren zu lassen. Ein Spezialfilter erk
 ennt vorhandene Hautschädigungen im Gesicht und zeigt auf\, welche Stelle
 n in Zukunft besonderes gut geschützt werden müssen\, um einer weiteren 
 Schädigung vorzubeugen.\nZudem stellen wir einen neuen Animationsfilm au
 s dem Entsorgungsbereich vor.\nSie finden uns in Halle A6\, Stand Nr. 208
 . Wir freuen uns auf Ihren Besuch!\n\nhttps://www.bg-verkehr.de/ifat-munic
 h
LAST-MODIFIED;VALUE=DATE-TIME:20251217T112526Z
LOCATION:München
URL:https://www.bg-verkehr.de/ifat-munich
END:VEVENT
BEGIN:VEVENT
SUMMARY:Interschutz
DTSTART;VALUE=DATE:20260601
DTEND;VALUE=DATE:20260607
DTSTAMP;VALUE=DATE-TIME:20260421T121855Z
UID:17f78647af7d46e28754970b8a16e848
CATEGORIES:Prävention
CONTACT:https://www.interschutz.de
CREATED;VALUE=DATE-TIME:20251217T120603Z
DESCRIPTION:Treffen Sie uns auf der Weltleitmesse für Feuerwehr\, Rettung
 swesen und Bevölkerungsschutz.\n\nhttps://www.bg-verkehr.de/interschutz
LAST-MODIFIED;VALUE=DATE-TIME:20251217T120649Z
LOCATION:Hannover
URL:https://www.bg-verkehr.de/interschutz
END:VEVENT
BEGIN:VEVENT
SUMMARY:Symposium: Gesundheit im Blick - Versorgung für Lkw-Fahrende unte
 rwegs
DTSTART;TZID=Europe/Berlin;VALUE=DATE-TIME:20260603T090000
DTEND;TZID=Europe/Berlin;VALUE=DATE-TIME:20260603T170000
DTSTAMP;VALUE=DATE-TIME:20260421T121855Z
UID:499e25a1528a4a35b7580f051f729d7f
CATEGORIES:Prävention
CREATED;VALUE=DATE-TIME:20260211T162143Z
DESCRIPTION:Gemeinsames europäisches Symposium der BG Verkehr und der IVS
 S Sektion für Prävention im Transportwesen\n\nAuf dem Symposium steht di
 e Frage im Zentrum\, wie der Alltag von Fernfahrenden mit Blick auf ihre G
 esundheit aussieht. Es findet in Präsenz bei der BG Verkehr in Hamburg so
 wie online statt. Die Veranstaltungssprachen sind Deutsch und Englisch (mi
 t Simultanübersetzung).\nWeitere Informationen und Anmeldung\n\nhttps://w
 ww.bg-verkehr.de/symposium-gesundheit-im-blick-versorgung-fuer-lkw-fahrend
 e-unterwegs
LAST-MODIFIED;VALUE=DATE-TIME:20260211T163734Z
LOCATION:Hamburg und online
URL:https://www.bg-verkehr.de/symposium-gesundheit-im-blick-versorgung-fue
 r-lkw-fahrende-unterwegs
END:VEVENT
BEGIN:VEVENT
SUMMARY:ILA
DTSTART;VALUE=DATE:20260610
DTEND;VALUE=DATE:20260615
DTSTAMP;VALUE=DATE-TIME:20260421T121855Z
UID:f2082a637c5c49db984855db172c6def
CATEGORIES:Prävention
CONTACT:https://ila-berlin.de
CREATED;VALUE=DATE-TIME:20251217T113501Z
DESCRIPTION:An unserem Messestand auf der Internationalen Luft- und Raumfa
 hrtausstellung können sich Besucherin­nen und Besucher zu allen Themen r
 und um Arbeitssicherheit und Gesundheitsschutz in­formieren.\n\nSie finde
 n uns in Halle C\, Stand Nr. 111. Wir freuen uns auf Ihren Besuch!\n\nhttp
 s://www.bg-verkehr.de/ila
LAST-MODIFIED;VALUE=DATE-TIME:20251217T120356Z
LOCATION:Berlin
URL:https://www.bg-verkehr.de/ila
END:VEVENT
BEGIN:VEVENT
SUMMARY:IFBA
DTSTART;VALUE=DATE:20260611
DTEND;VALUE=DATE:20260614
DTSTAMP;VALUE=DATE-TIME:20260421T121855Z
UID:98aaf52706a84ca4aeb758c19ed8109b
CATEGORIES:Prävention
CONTACT:https://www.ifba.eu/
CREATED;VALUE=DATE-TIME:20251217T121451Z
DESCRIPTION:Auf der Internationalen Fachausstellung Bergen und Abschleppen
  können Besucherinnen und Besucher an unserem Stand im Gurtschlitten und 
 Überschlagsimulator Platz nehmen.\n\nhttps://www.bg-verkehr.de/ifba
LAST-MODIFIED;VALUE=DATE-TIME:20251217T121553Z
LOCATION:Kassel
URL:https://www.bg-verkehr.de/ifba
END:VEVENT
BEGIN:VEVENT
SUMMARY:Internationaler ADAC Truck-Grand-Prix
DTSTART;VALUE=DATE:20260710
DTEND;VALUE=DATE:20260713
DTSTAMP;VALUE=DATE-TIME:20260421T121855Z
UID:2af07ed23c3140259ae757fca28cc981
CATEGORIES:Prävention
CONTACT:https://truck-grand-prix.de/
CREATED;VALUE=DATE-TIME:20251217T122131Z
DESCRIPTION:Im Juli treffen Sie uns wieder gemeinsam mit dem Deutschen Ver
 kehrssicherheitsrat (DVR) auf der beliebten Veranstaltung der Trucker-Szen
 e in der Eifel.\n\nIm Gurtschlitten und im Überschlagsimulator können Be
 sucherinnen und Besucher live erleben\, wie wichtig das Anlegen des Sicher
 heitsgurts ist. \n\nhttps://www.bg-verkehr.de/internationaler-adac-truck-
 grand-prix
LAST-MODIFIED;VALUE=DATE-TIME:20251217T122140Z
LOCATION:Nürburgring
URL:https://www.bg-verkehr.de/internationaler-adac-truck-grand-prix
END:VEVENT
BEGIN:VEVENT
SUMMARY:IAA TRANSPORTATION
DTSTART;VALUE=DATE:20260915
DTEND;VALUE=DATE:20260921
DTSTAMP;VALUE=DATE-TIME:20260421T121855Z
UID:182fa22153ca496da95c4c982a6bf8a2
CATEGORIES:Prävention
CONTACT:https://www.iaa-transportation.com
CREATED;VALUE=DATE-TIME:20251217T123139Z
DESCRIPTION:Auch in diesem Jahr finden Sie uns auf der internationalen Pla
 ttform für die Nutzfahrzeug-\, Transport- und Logistikindustrie.\n\nhttps
 ://www.bg-verkehr.de/iaa-transportation
LAST-MODIFIED;VALUE=DATE-TIME:20251217T123303Z
LOCATION:Hannover
URL:https://www.bg-verkehr.de/iaa-transportation
END:VEVENT
BEGIN:VEVENT
SUMMARY:Security Essen
DTSTART;VALUE=DATE:20260922
DTEND;VALUE=DATE:20260926
DTSTAMP;VALUE=DATE-TIME:20260421T121855Z
UID:93b4ae9510fe47f5b3a2e3ade4bf80b5
CATEGORIES:Prävention
CONTACT:https://www.security-essen.de
CREATED;VALUE=DATE-TIME:20251217T123835Z
DESCRIPTION:Auf der Leitmesse für zivile Sicherheit treffen Sie uns am St
 and der Verwaltungs-Berufsgenossenschaft (VBG).\n\nhttps://www.bg-verkehr.
 de/security-essen
LAST-MODIFIED;VALUE=DATE-TIME:20251217T124032Z
LOCATION:Essen
URL:https://www.bg-verkehr.de/security-essen
END:VEVENT
BEGIN:VEVENT
SUMMARY:Shipping Technics Logistics
DTSTART;VALUE=DATE:20260922
DTEND;VALUE=DATE:20260924
DTSTAMP;VALUE=DATE-TIME:20260421T121855Z
UID:b4563c328c8544c189e282c65aec3f6b
CATEGORIES:Prävention
CONTACT:https://shipping-technics-logistics.de/
CREATED;VALUE=DATE-TIME:20251217T124409Z
DESCRIPTION:Treffen Sie unsere Expertinnen und Experten auf der Fachmesse 
 für die Binnenschifffahrt am Niederrhein.\n\nhttps://www.bg-verkehr.de/sh
 ipping-technics-logistics
LAST-MODIFIED;VALUE=DATE-TIME:20251217T124749Z
LOCATION:Kalkar
URL:https://www.bg-verkehr.de/shipping-technics-logistics
END:VEVENT
BEGIN:VEVENT
SUMMARY:Europäische Taximesse
DTSTART;VALUE=DATE:20261106
DTEND;VALUE=DATE:20261108
DTSTAMP;VALUE=DATE-TIME:20260421T121855Z
UID:06d241453f37468bbef3e05ff7d4540d
CATEGORIES:Prävention
CONTACT:https://www.eurotaximesse.de/
CREATED;VALUE=DATE-TIME:20251217T124950Z
DESCRIPTION:An unserem erhalten Besuchende wichtige Impulse\, wie die Gesu
 ndheit der Beschäftigten in der Branche bei der Arbeit geschützt werden 
 kann.\n\nhttps://www.bg-verkehr.de/europaeische-taximesse
LAST-MODIFIED;VALUE=DATE-TIME:20251217T125003Z
LOCATION:Köln-Deutz
URL:https://www.bg-verkehr.de/europaeische-taximesse
END:VEVENT
BEGIN:VTIMEZONE
TZID:Europe/Berlin
X-LIC-LOCATION:Europe/Berlin
BEGIN:DAYLIGHT
DTSTART;VALUE=DATE-TIME:20260329T030000
TZNAME:CEST
TZOFFSETFROM:+0100
TZOFFSETTO:+0200
END:DAYLIGHT
END:VTIMEZONE
END:VCALENDAR
